Workbook
Name _GoBack: 'Input Sheet'!$A$7

Sheet Input Sheet
B2: Questionnaires Distributed | C2: 380
B3: Questionnaires Collected | C3: 233
B7: Educational Leadership and Management | C7: Strongly Agree | D7: Agree | E7: Not Sure | F7: Disagree | G7: Strongly Disagree | H7: Not Applicable | I7: Validation | K7: Learning and Teaching | L7: Strongly Agree | M7: Agree | N7: Not Sure | O7: Disagree | P7: Strongly Disagree | Q7: Not Applicable | R7: Validation | T7: School Climate | U7: Strongly Agree | V7: Agree | W7: Not Sure | X7: Disagree | Y7: Strongly Disagree | Z7: Not Applicable | AA7: Validation
A8: 1 | B8: The Head of school has a clear vision for the school. | C8: 202 | D8: 30 | E8: 1 | F8: 0 | G8: 0 | H8: 0 | I8: =(C8+D8+E8+F8+G8+H8)-$C$3 -> 0 | J8: 9 | K8: The school supports learners in developing their full potential. | L8: 151 | M8: 75 | N8: 6 | O8: 0 | P8: 0 | Q8: 1 | R8: =(L8+M8+N8+O8+P8+Q8)-$C$3 -> 0 | S8: 19 | T8: The school promotes confidence and self-esteem of learners. | U8: 136 | V8: 84 | W8: 7 | X8: 1 | Y8: 0 | Z8: 5 | AA8: =(U8+V8+W8+X8+Y8+Z8)-$C$3 -> 0
A9: 2 | B9: The Head and Assistant Heads are doing their best to bring about changes in the school. | C9: 167 | D9: 61 | E9: 5 | F9: 0 | G9: 0 | H9: 0 | I9: =(C9+D9+E9+F9+G9+H9)-$C$3 -> 0 | J9: 10 | K9: The school helps learners develop as democratic citizens. | L9: 136 | M9: 83 | N9: 7 | O9: 1 | P9: 0 | Q9: 6 | R9: =(L9+M9+N9+O9+P9+Q9)-$C$3 -> 0 | T9: The school addresses the needs of:
A10: 3 | B10: The Head and Assistant Heads are available to listen to my concerns. | C10: 120 | D10: 93 | E10: 12 | F10: 3 | G10: 0 | H10: 5 | I10: =(C10+D10+E10+F10+G10+H10)-$C$3 -> 0 | J10: 11 | K10: The school enhances learning through co-curricular activities. | L10: 139 | M10: 87 | N10: 4 | O10: 0 | P10: 0 | Q10: 3 | R10: =(L10+M10+N10+O10+P10+Q10)-$C$3 -> 0 | S10: 20 a | T10: Gifted and talented learners. | U10: 92 | V10: 98 | W10: 31 | X10: 0 | Y10: 0 | Z10: 12 | AA10: =(U10+V10+W10+X10+Y10+Z10)-$C$3 -> 0
A11: 4 | B11: The Head and Assistant Heads organises regular meetings that are relevant for me as a person. | C11: 94 | D11: 119 | E11: 9 | F11: 6 | G11: 1 | H11: 4 | I11: =(C11+D11+E11+F11+G11+H11)-$C$3 -> 0 | J11: 12 | K11: Learning support assistant and teachers work in synergy for the benefit of all learners. | L11: 151 | M11: 73 | N11: 4 | O11: 0 | P11: 1 | Q11: 4 | R11: =(L11+M11+N11+O11+P11+Q11)-$C$3 -> 0 | S11: 20 b | T11: Learners with special educational needs. | U11: 92 | V11: 90 | W11: 25 | X11: 0 | Y11: 0 | Z11: 26 | AA11: =(U11+V11+W11+X11+Y11+Z11)-$C$3 -> 0
A12: 5 | B12: The school regularly asks for my views about the school. | C12: 85 | D12: 107 | E12: 27 | F12: 8 | G12: 0 | H12: 6 | I12: =(C12+D12+E12+F12+G12+H12)-$C$3 -> 0 | J12: 13 | K12: Teachers provide reasonable amount of Homework. | L12: 84 | M12: 107 | N12: 23 | O12: 13 | P12: 3 | Q12: 3 | R12: =(L12+M12+N12+O12+P12+Q12)-$C$3 -> 0 | S12: 20 c | T12: Learners from diverse cultural and linguistic backgrounds | U12: 71 | V12: 86 | W12: 41 | X12: 3 | Y12: 1 | Z12: 31 | AA12: =(U12+V12+W12+X12+Y12+Z12)-$C$3 -> 0
A13: 6 | B13: I have sufficient opportunities to communicate with the Head and Assistant Heads. | C13: 94 | D13: 118 | E13: 16 | F13: 2 | G13: 1 | H13: 2 | I13: =(C13+D13+E13+F13+G13+H13)-$C$3 -> 0 | J13: 14 | K13: Homework is suited for the child’s ability. | L13: 93 | M13: 115 | N13: 20 | O13: 2 | P13: 1 | Q13: 2 | R13: =(L13+M13+N13+O13+P13+Q13)-$C$3 -> 0 | S13: 21 | T13: The school provides learners with effective personal and career guidance. | U13: 67 | V13: 74 | W13: 51 | X13: 2 | Y13: 1 | Z13: 38 | AA13: =(U13+V13+W13+X13+Y13+Z13)-$C$3 -> 0
A14: 7 | B14: The Head and Assistant Heads communicates effectively with me. | C14: 89 | D14: 119 | E14: 20 | F14: 1 | G14: 0 | H14: 4 | I14: =(C14+D14+E14+F14+G14+H14)-$C$3 -> 0 | J14: 15 | K14: Homework is regularly corrected by the class teacher. | L14: 129 | M14: 85 | N14: 14 | O14: 1 | P14: 2 | Q14: 2 | R14: =(L14+M14+N14+O14+P14+Q14)-$C$3 -> 0 | S14: 22 | T14: Individual educational programmes (IEPs) for learners with a statement of needs are updated regularly. | U14: 60 | V14: 64 | W14: 60 | X14: 4 | Y14: 0 | Z14: 45 | AA14: =(U14+V14+W14+X14+Y14+Z14)-$C$3 -> 0
A15: 8 | B15: Existing school policies are effective. | C15: 121 | D15: 101 | E15: 6 | F15: 2 | G15: 0 | H15: 3 | I15: =(C15+D15+E15+F15+G15+H15)-$C$3 -> 0 | J15: 16 | K15: My child is given feedback on his/her work to enable him/her to improve. | L15: 102 | M15: 95 | N15: 25 | O15: 1 | P15: 2 | Q15: 8 | R15: =(L15+M15+N15+O15+P15+Q15)-$C$3 -> 0 | S15: 23 | T15: The school’s behaviour management policy is effective in promoting good behaviour. | U15: 83 | V15: 102 | W15: 33 | X15: 0 | Y15: 0 | Z15: 15 | AA15: =(U15+V15+W15+X15+Y15+Z15)-$C$3 -> 0
J16: 17 | K16: I receive regular feedback on the academic performance of my child. | L16: 82 | M16: 113 | N16: 26 | O16: 10 | P16: 0 | Q16: 2 | R16: =(L16+M16+N16+O16+P16+Q16)-$C$3 -> 0 | S16: 24 | T16: The school handles disciplinary problems in a firm but caring manner. | U16: 103 | V16: 102 | W16: 14 | X16: 0 | Y16: 0 | Z16: 14 | AA16: =(U16+V16+W16+X16+Y16+Z16)-$C$3 -> 0
J17: 18 | K17: I am satisfied with the academic performance of my child. | L17: 120 | M17: 100 | N17: 10 | O17: 1 | P17: 0 | Q17: 2 | R17: =(L17+M17+N17+O17+P17+Q17)-$C$3 -> 0 | S17: 25 | T17: The school deals with cases of bullying immediately and effectively. | U17: 80 | V17: 89 | W17: 40 | X17: 3 | Y17: 1 | Z17: 20 | AA17: =(U17+V17+W17+X17+Y17+Z17)-$C$3 -> 0
B18: 85 | S18: 26 | T18: The school values parents’ contribution. | U18: 161 | V18: 66 | W18: 3 | X18: 0 | Y18: 0 | Z18: 3 | AA18: =(U18+V18+W18+X18+Y18+Z18)-$C$3 -> 0
S19: 27 | T19: I am satisfied with the school’s efforts to tackle absenteeism. | U19: 107 | V19: 91 | W19: 17 | X19: 2 | Y19: 0 | Z19: 16 | AA19: =(U19+V19+W19+X19+Y19+Z19)-$C$3 -> 0
S20: 28 | T20: My child participates actively in school organised activities. | U20: 129 | V20: 85 | W20: 10 | X20: 3 | Y20: 0 | Z20: 6 | AA20: =(U20+V20+W20+X20+Y20+Z20)-$C$3 -> 0
S21: 29 | T21: The school encourages respect among parents. | U21: 129 | V21: 90 | W21: 7 | X21: 2 | Y21: 0 | Z21: 5 | AA21: =(U21+V21+W21+X21+Y21+Z21)-$C$3 -> 0
S22: 30 | T22: I regularly follow my child’s educational progress. | U22: 167 | V22: 62 | W22: 1 | X22: 0 | Y22: 0 | Z22: 3 | AA22: =(U22+V22+W22+X22+Y22+Z22)-$C$3 -> 0
S23: 31 | T23: Parents readily cooperate with the school. | U23: 105 | V23: 101 | W23: 22 | X23: 2 | Y23: 0 | Z23: 3 | AA23: =(U23+V23+W23+X23+Y23+Z23)-$C$3 -> 0
S24: 32 | T24: I regularly attend parents’ day. | U24: 172 | V24: 52 | W24: 3 | X24: 1 | Y24: 0 | Z24: 5 | AA24: =(U24+V24+W24+X24+Y24+Z24)-$C$3 -> 0
S25: 33 | T25: I am invited to take part in school initiatives. | U25: 119 | V25: 90 | W25: 11 | X25: 3 | Y25: 0 | Z25: 10 | AA25: =(U25+V25+W25+X25+Y25+Z25)-$C$3 -> 0
S26: 34 | T26: I regularly take part in school initiatives. | U26: 85 | V26: 98 | W26: 17 | X26: 9 | Y26: 1 | Z26: 23 | AA26: =(U26+V26+W26+X26+Y26+Z26)-$C$3 -> 0
S27: 35 | T27: The school attends to problems I raise in a timely manner. | U27: 68 | V27: 101 | W27: 31 | X27: 5 | Y27: 1 | Z27: 27 | AA27: =(U27+V27+W27+X27+Y27+Z27)-$C$3 -> 0
S28: 36 | T28: I would recommend the school to other parents. | U28: 186 | V28: 39 | W28: 2 | X28: 1 | Y28: 0 | Z28: 5 | AA28: =(U28+V28+W28+X28+Y28+Z28)-$C$3 -> 0

Sheet Data Sheet
B2: Questionnaires Distributed | C2: ='Input Sheet'!C2:D2 -> 380
B3: Questionnaires Collected | C3: ='Input Sheet'!C3:D3 -> 233
B4: Response Rate | C4: =C3/C2 -> 0.61315789
B7: Educational Leadership and Management | C7: ='Input Sheet'!C7 -> Strongly Agree | D7: ='Input Sheet'!D7 -> Agree | E7: ='Input Sheet'!E7 -> Not Sure | F7: ='Input Sheet'!F7 -> Disagree | G7: ='Input Sheet'!G7 -> Strongly Disagree | H7: ='Input Sheet'!H7 -> Not Applicable | J7: Strengths | K7: Weaknesses | M7: Weighted Av | P7: Learning and Teaching | Q7: ='Input Sheet'!C7 -> Strongly Agree | R7: ='Input Sheet'!D7 -> Agree | S7: ='Input Sheet'!E7 -> Not Sure | T7: ='Input Sheet'!F7 -> Disagree | U7: ='Input Sheet'!G7 -> Strongly Disagree | V7: ='Input Sheet'!H7 -> Not Applicable | X7: Strengths | Y7: Weaknesses | AA7: Weighted Av | AD7: School Climate | AE7: ='Input Sheet'!C7 -> Strongly Agree | AF7: ='Input Sheet'!D7 -> Agree | AG7: ='Input Sheet'!E7 -> Not Sure | AH7: ='Input Sheet'!F7 -> Disagree | AI7: ='Input Sheet'!G7 -> Strongly Disagree | AJ7: ='Input Sheet'!H7 -> Not Applicable | AL7: Strengths | AM7: Weaknesses | AO7: Weighted Av
A8: ='Input Sheet'!A8 -> 1 | B8: ='Input Sheet'!B8 -> The Head of school has a clear vision for the school. | C8: ='Input Sheet'!C8/$C$3 -> 0.86695279 | D8: ='Input Sheet'!D8/$C$3 -> 0.12875536 | E8: ='Input Sheet'!E8/$C$3 -> 0.0042918455 | F8: ='Input Sheet'!F8/$C$3 -> 0 | G8: ='Input Sheet'!G8/$C$3 -> 0 | H8: ='Input Sheet'!H8/$C$3 -> 0 | J8: =C8+D8 -> 0.99570815 | K8: =F8+G8 -> 0 | M8: =(('Input Sheet'!C8*2)+('Input Sheet'!D8*1)+('Input Sheet'!F8*-1)+('Input Sheet'!G8*-2))/$C$3 -> 1.8626609 | O8: ='Input Sheet'!J8 -> 9 | P8: ='Input Sheet'!K8 -> The school supports learners in developing their full potential. | Q8: ='Input Sheet'!L8/$C$3 -> 0.64806867 | R8: ='Input Sheet'!M8/$C$3 -> 0.32188841 | S8: ='Input Sheet'!N8/$C$3 -> 0.025751073 | T8: ='Input Sheet'!O8/$C$3 -> 0 | U8: ='Input Sheet'!P8/$C$3 -> 0 | V8: ='Input Sheet'!Q8/$C$3 -> 0.0042918455 | X8: =Q8+R8 -> 0.96995708 | Y8: =T8+U8 -> 0 | AA8: =(('Input Sheet'!L8*2)+('Input Sheet'!M8*1)+('Input Sheet'!O8*-1)+('Input Sheet'!P8*-2))/$C$3 -> 1.6180258 | AC8: ='Input Sheet'!S8 -> 19 | AD8: ='Input Sheet'!T8 -> The school promotes confidence and self-esteem of learners. | AE8: ='Input Sheet'!U8/$C$3 -> 0.58369099 | AF8: ='Input Sheet'!V8/$C$3 -> 0.36051502 | AG8: ='Input Sheet'!W8/$C$3 -> 0.030042918 | AH8: ='Input Sheet'!X8/$C$3 -> 0.0042918455 | AI8: ='Input Sheet'!Y8/$C$3 -> 0 | AJ8: ='Input Sheet'!Z8/$C$3 -> 0.021459227 | AL8: =AE8+AF8 -> 0.94420601 | AM8: =AH8+AI8 -> 0.0042918455 | AO8: =(('Input Sheet'!U8*2)+('Input Sheet'!V8*1)+('Input Sheet'!X8*-1)+('Input Sheet'!Y8*-2))/$C$3 -> 1.5236052
A9: ='Input Sheet'!A9 -> 2 | B9: ='Input Sheet'!B9 -> The Head and Assistant Heads are doing their best to bring about changes in the school. | C9: ='Input Sheet'!C9/$C$3 -> 0.7167382 | D9: ='Input Sheet'!D9/$C$3 -> 0.26180258 | E9: ='Input Sheet'!E9/$C$3 -> 0.021459227 | F9: ='Input Sheet'!F9/$C$3 -> 0 | G9: ='Input Sheet'!G9/$C$3 -> 0 | H9: ='Input Sheet'!H9/$C$3 -> 0 | J9: =C9+D9 -> 0.97854077 | K9: =F9+G9 -> 0 | M9: =(('Input Sheet'!C9*2)+('Input Sheet'!D9*1)+('Input Sheet'!F9*-1)+('Input Sheet'!G9*-2))/$C$3 -> 1.695279 | O9: ='Input Sheet'!J9 -> 10 | P9: ='Input Sheet'!K9 -> The school helps learners develop as democratic citizens. | Q9: ='Input Sheet'!L9/$C$3 -> 0.58369099 | R9: ='Input Sheet'!M9/$C$3 -> 0.35622318 | S9: ='Input Sheet'!N9/$C$3 -> 0.030042918 | T9: ='Input Sheet'!O9/$C$3 -> 0.0042918455 | U9: ='Input Sheet'!P9/$C$3 -> 0 | V9: ='Input Sheet'!Q9/$C$3 -> 0.025751073 | X9: =Q9+R9 -> 0.93991416 | Y9: =T9+U9 -> 0.0042918455 | AA9: =(('Input Sheet'!L9*2)+('Input Sheet'!M9*1)+('Input Sheet'!O9*-1)+('Input Sheet'!P9*-2))/$C$3 -> 1.5193133 | AC9: ='Input Sheet'!S9 | AD9: ='Input Sheet'!T8 -> The school promotes confidence and self-esteem of learners.
A10: ='Input Sheet'!A10 -> 3 | B10: ='Input Sheet'!B10 -> The Head and Assistant Heads are available to listen to my concerns. | C10: ='Input Sheet'!C10/$C$3 -> 0.51502146 | D10: ='Input Sheet'!D10/$C$3 -> 0.39914163 | E10: ='Input Sheet'!E10/$C$3 -> 0.051502146 | F10: ='Input Sheet'!F10/$C$3 -> 0.012875536 | G10: ='Input Sheet'!G10/$C$3 -> 0 | H10: ='Input Sheet'!H10/$C$3 -> 0.021459227 | J10: =C10+D10 -> 0.91416309 | K10: =F10+G10 -> 0.012875536 | M10: =(('Input Sheet'!C10*2)+('Input Sheet'!D10*1)+('Input Sheet'!F10*-1)+('Input Sheet'!G10*-2))/$C$3 -> 1.416309 | O10: ='Input Sheet'!J10 -> 11 | P10: ='Input Sheet'!K10 -> The school enhances learning through co-curricular activities. | Q10: ='Input Sheet'!L10/$C$3 -> 0.59656652 | R10: ='Input Sheet'!M10/$C$3 -> 0.37339056 | S10: ='Input Sheet'!N10/$C$3 -> 0.017167382 | T10: ='Input Sheet'!O10/$C$3 -> 0 | U10: ='Input Sheet'!P10/$C$3 -> 0 | V10: ='Input Sheet'!Q10/$C$3 -> 0.012875536 | X10: =Q10+R10 -> 0.96995708 | Y10: =T10+U10 -> 0 | AA10: =(('Input Sheet'!L10*2)+('Input Sheet'!M10*1)+('Input Sheet'!O10*-1)+('Input Sheet'!P10*-2))/$C$3 -> 1.5665236 | AC10: ='Input Sheet'!S10 -> 20 a | AD10: ='Input Sheet'!T9 -> The school addresses the needs of: | AE10: ='Input Sheet'!U10/$C$3 -> 0.39484979 | AF10: ='Input Sheet'!V10/$C$3 -> 0.42060086 | AG10: ='Input Sheet'!W10/$C$3 -> 0.13304721 | AH10: ='Input Sheet'!X10/$C$3 -> 0 | AI10: ='Input Sheet'!Y10/$C$3 -> 0 | AJ10: ='Input Sheet'!Z10/$C$3 -> 0.051502146 | AL10: =AE10+AF10 -> 0.81545064 | AM10: =AH10+AI10 -> 0 | AO10: =(('Input Sheet'!U10*2)+('Input Sheet'!V10*1)+('Input Sheet'!X10*-1)+('Input Sheet'!Y10*-2))/$C$3 -> 1.2103004
A11: ='Input Sheet'!A11 -> 4 | B11: ='Input Sheet'!B11 -> The Head and Assistant Heads organises regular meetings that are relevant for me as a person. | C11: ='Input Sheet'!C11/$C$3 -> 0.40343348 | D11: ='Input Sheet'!D11/$C$3 -> 0.51072961 | E11: ='Input Sheet'!E11/$C$3 -> 0.038626609 | F11: ='Input Sheet'!F11/$C$3 -> 0.025751073 | G11: ='Input Sheet'!G11/$C$3 -> 0.0042918455 | H11: ='Input Sheet'!H11/$C$3 -> 0.017167382 | J11: =C11+D11 -> 0.91416309 | K11: =F11+G11 -> 0.030042918 | M11: =(('Input Sheet'!C11*2)+('Input Sheet'!D11*1)+('Input Sheet'!F11*-1)+('Input Sheet'!G11*-2))/$C$3 -> 1.2832618 | O11: ='Input Sheet'!J11 -> 12 | P11: ='Input Sheet'!K11 -> Learning support assistant and teachers work in synergy for the benefit of all learners. | Q11: ='Input Sheet'!L11/$C$3 -> 0.64806867 | R11: ='Input Sheet'!M11/$C$3 -> 0.31330472 | S11: ='Input Sheet'!N11/$C$3 -> 0.017167382 | T11: ='Input Sheet'!O11/$C$3 -> 0 | U11: ='Input Sheet'!P11/$C$3 -> 0.0042918455 | V11: ='Input Sheet'!Q11/$C$3 -> 0.017167382 | X11: =Q11+R11 -> 0.96137339 | Y11: =T11+U11 -> 0.0042918455 | AA11: =(('Input Sheet'!L11*2)+('Input Sheet'!M11*1)+('Input Sheet'!O11*-1)+('Input Sheet'!P11*-2))/$C$3 -> 1.6008584 | AC11: ='Input Sheet'!S11 -> 20 b | AD11: ='Input Sheet'!T10 -> Gifted and talented learners. | AE11: ='Input Sheet'!U11/$C$3 -> 0.39484979 | AF11: ='Input Sheet'!V11/$C$3 -> 0.38626609 | AG11: ='Input Sheet'!W11/$C$3 -> 0.10729614 | AH11: ='Input Sheet'!X11/$C$3 -> 0 | AI11: ='Input Sheet'!Y11/$C$3 -> 0 | AJ11: ='Input Sheet'!Z11/$C$3 -> 0.11158798 | AL11: =AE11+AF11 -> 0.78111588 | AM11: =AH11+AI11 -> 0 | AO11: =(('Input Sheet'!U11*2)+('Input Sheet'!V11*1)+('Input Sheet'!X11*-1)+('Input Sheet'!Y11*-2))/$C$3 -> 1.1759657
A12: ='Input Sheet'!A12 -> 5 | B12: ='Input Sheet'!B12 -> The school regularly asks for my views about the school. | C12: ='Input Sheet'!C12/$C$3 -> 0.36480687 | D12: ='Input Sheet'!D12/$C$3 -> 0.45922747 | E12: ='Input Sheet'!E12/$C$3 -> 0.11587983 | F12: ='Input Sheet'!F12/$C$3 -> 0.034334764 | G12: ='Input Sheet'!G12/$C$3 -> 0 | H12: ='Input Sheet'!H12/$C$3 -> 0.025751073 | J12: =C12+D12 -> 0.82403433 | K12: =F12+G12 -> 0.034334764 | M12: =(('Input Sheet'!C12*2)+('Input Sheet'!D12*1)+('Input Sheet'!F12*-1)+('Input Sheet'!G12*-2))/$C$3 -> 1.1545064 | O12: ='Input Sheet'!J12 -> 13 | P12: ='Input Sheet'!K12 -> Teachers provide reasonable amount of Homework. | Q12: ='Input Sheet'!L12/$C$3 -> 0.36051502 | R12: ='Input Sheet'!M12/$C$3 -> 0.45922747 | S12: ='Input Sheet'!N12/$C$3 -> 0.098712446 | T12: ='Input Sheet'!O12/$C$3 -> 0.055793991 | U12: ='Input Sheet'!P12/$C$3 -> 0.012875536 | V12: ='Input Sheet'!Q12/$C$3 -> 0.012875536 | X12: =Q12+R12 -> 0.81974249 | Y12: =T12+U12 -> 0.068669528 | AA12: =(('Input Sheet'!L12*2)+('Input Sheet'!M12*1)+('Input Sheet'!O12*-1)+('Input Sheet'!P12*-2))/$C$3 -> 1.0987124 | AC12: ='Input Sheet'!S12 -> 20 c | AD12: ='Input Sheet'!T11 -> Learners with special educational needs. | AE12: ='Input Sheet'!U12/$C$3 -> 0.30472103 | AF12: ='Input Sheet'!V12/$C$3 -> 0.36909871 | AG12: ='Input Sheet'!W12/$C$3 -> 0.17596567 | AH12: ='Input Sheet'!X12/$C$3 -> 0.012875536 | AI12: ='Input Sheet'!Y12/$C$3 -> 0.0042918455 | AJ12: ='Input Sheet'!Z12/$C$3 -> 0.13304721 | AL12: =AE12+AF12 -> 0.67381974 | AM12: =AH12+AI12 -> 0.017167382 | AO12: =(('Input Sheet'!U12*2)+('Input Sheet'!V12*1)+('Input Sheet'!X12*-1)+('Input Sheet'!Y12*-2))/$C$3 -> 0.95708155
A13: ='Input Sheet'!A13 -> 6 | B13: ='Input Sheet'!B13 -> I have sufficient opportunities to communicate with the Head and Assistant Heads. | C13: ='Input Sheet'!C13/$C$3 -> 0.40343348 | D13: ='Input Sheet'!D13/$C$3 -> 0.50643777 | E13: ='Input Sheet'!E13/$C$3 -> 0.068669528 | F13: ='Input Sheet'!F13/$C$3 -> 0.008583691 | G13: ='Input Sheet'!G13/$C$3 -> 0.0042918455 | H13: ='Input Sheet'!H13/$C$3 -> 0.008583691 | J13: =C13+D13 -> 0.90987124 | K13: =F13+G13 -> 0.012875536 | M13: =(('Input Sheet'!C13*2)+('Input Sheet'!D13*1)+('Input Sheet'!F13*-1)+('Input Sheet'!G13*-2))/$C$3 -> 1.2961373 | O13: ='Input Sheet'!J13 -> 14 | P13: ='Input Sheet'!K13 -> Homework is suited for the child’s ability. | Q13: ='Input Sheet'!L13/$C$3 -> 0.39914163 | R13: ='Input Sheet'!M13/$C$3 -> 0.49356223 | S13: ='Input Sheet'!N13/$C$3 -> 0.08583691 | T13: ='Input Sheet'!O13/$C$3 -> 0.008583691 | U13: ='Input Sheet'!P13/$C$3 -> 0.0042918455 | V13: ='Input Sheet'!Q13/$C$3 -> 0.008583691 | X13: =Q13+R13 -> 0.89270386 | Y13: =T13+U13 -> 0.012875536 | AA13: =(('Input Sheet'!L13*2)+('Input Sheet'!M13*1)+('Input Sheet'!O13*-1)+('Input Sheet'!P13*-2))/$C$3 -> 1.2746781 | AC13: ='Input Sheet'!S13 -> 21 | AD13: ='Input Sheet'!T12 -> Learners from diverse cultural and linguistic backgrounds | AE13: ='Input Sheet'!U13/$C$3 -> 0.28755365 | AF13: ='Input Sheet'!V13/$C$3 -> 0.31759657 | AG13: ='Input Sheet'!W13/$C$3 -> 0.21888412 | AH13: ='Input Sheet'!X13/$C$3 -> 0.008583691 | AI13: ='Input Sheet'!Y13/$C$3 -> 0.0042918455 | AJ13: ='Input Sheet'!Z13/$C$3 -> 0.16309013 | AL13: =AE13+AF13 -> 0.60515021 | AM13: =AH13+AI13 -> 0.012875536 | AO13: =(('Input Sheet'!U13*2)+('Input Sheet'!V13*1)+('Input Sheet'!X13*-1)+('Input Sheet'!Y13*-2))/$C$3 -> 0.87553648
A14: ='Input Sheet'!A14 -> 7 | B14: ='Input Sheet'!B14 -> The Head and Assistant Heads communicates effectively with me. | C14: ='Input Sheet'!C14/$C$3 -> 0.38197425 | D14: ='Input Sheet'!D14/$C$3 -> 0.51072961 | E14: ='Input Sheet'!E14/$C$3 -> 0.08583691 | F14: ='Input Sheet'!F14/$C$3 -> 0.0042918455 | G14: ='Input Sheet'!G14/$C$3 -> 0 | H14: ='Input Sheet'!H14/$C$3 -> 0.017167382 | J14: =C14+D14 -> 0.89270386 | K14: =F14+G14 -> 0.0042918455 | M14: =(('Input Sheet'!C14*2)+('Input Sheet'!D14*1)+('Input Sheet'!F14*-1)+('Input Sheet'!G14*-2))/$C$3 -> 1.2703863 | O14: ='Input Sheet'!J14 -> 15 | P14: ='Input Sheet'!K14 -> Homework is regularly corrected by the class teacher. | Q14: ='Input Sheet'!L14/$C$3 -> 0.55364807 | R14: ='Input Sheet'!M14/$C$3 -> 0.36480687 | S14: ='Input Sheet'!N14/$C$3 -> 0.060085837 | T14: ='Input Sheet'!O14/$C$3 -> 0.0042918455 | U14: ='Input Sheet'!P14/$C$3 -> 0.008583691 | V14: ='Input Sheet'!Q14/$C$3 -> 0.008583691 | X14: =Q14+R14 -> 0.91845494 | Y14: =T14+U14 -> 0.012875536 | AA14: =(('Input Sheet'!L14*2)+('Input Sheet'!M14*1)+('Input Sheet'!O14*-1)+('Input Sheet'!P14*-2))/$C$3 -> 1.4506438 | AC14: ='Input Sheet'!S14 -> 22 | AD14: ='Input Sheet'!T13 -> The school provides learners with effective personal and career guidance. | AE14: ='Input Sheet'!U14/$C$3 -> 0.25751073 | AF14: ='Input Sheet'!V14/$C$3 -> 0.27467811 | AG14: ='Input Sheet'!W14/$C$3 -> 0.25751073 | AH14: ='Input Sheet'!X14/$C$3 -> 0.017167382 | AI14: ='Input Sheet'!Y14/$C$3 -> 0 | AJ14: ='Input Sheet'!Z14/$C$3 -> 0.19313305 | AL14: =AE14+AF14 -> 0.53218884 | AM14: =AH14+AI14 -> 0.017167382 | AO14: =(('Input Sheet'!U14*2)+('Input Sheet'!V14*1)+('Input Sheet'!X14*-1)+('Input Sheet'!Y14*-2))/$C$3 -> 0.77253219
A15: ='Input Sheet'!A15 -> 8 | B15: ='Input Sheet'!B15 -> Existing school policies are effective. | C15: ='Input Sheet'!C15/$C$3 -> 0.5193133 | D15: ='Input Sheet'!D15/$C$3 -> 0.43347639 | E15: ='Input Sheet'!E15/$C$3 -> 0.025751073 | F15: ='Input Sheet'!F15/$C$3 -> 0.008583691 | G15: ='Input Sheet'!G15/$C$3 -> 0 | H15: ='Input Sheet'!H15/$C$3 -> 0.012875536 | J15: =C15+D15 -> 0.9527897 | K15: =F15+G15 -> 0.008583691 | M15: =(('Input Sheet'!C15*2)+('Input Sheet'!D15*1)+('Input Sheet'!F15*-1)+('Input Sheet'!G15*-2))/$C$3 -> 1.4635193 | O15: ='Input Sheet'!J15 -> 16 | P15: ='Input Sheet'!K15 -> My child is given feedback on his/her work to enable him/her to improve. | Q15: ='Input Sheet'!L15/$C$3 -> 0.43776824 | R15: ='Input Sheet'!M15/$C$3 -> 0.40772532 | S15: ='Input Sheet'!N15/$C$3 -> 0.10729614 | T15: ='Input Sheet'!O15/$C$3 -> 0.0042918455 | U15: ='Input Sheet'!P15/$C$3 -> 0.008583691 | V15: ='Input Sheet'!Q15/$C$3 -> 0.034334764 | X15: =Q15+R15 -> 0.84549356 | Y15: =T15+U15 -> 0.012875536 | AA15: =(('Input Sheet'!L15*2)+('Input Sheet'!M15*1)+('Input Sheet'!O15*-1)+('Input Sheet'!P15*-2))/$C$3 -> 1.2618026 | AC15: ='Input Sheet'!S15 -> 23 | AD15: ='Input Sheet'!T14 -> Individual educational programmes (IEPs) for learners with a statement of needs are updated regularly. | AE15: ='Input Sheet'!U15/$C$3 -> 0.35622318 | AF15: ='Input Sheet'!V15/$C$3 -> 0.43776824 | AG15: ='Input Sheet'!W15/$C$3 -> 0.1416309 | AH15: ='Input Sheet'!X15/$C$3 -> 0 | AI15: ='Input Sheet'!Y15/$C$3 -> 0 | AJ15: ='Input Sheet'!Z15/$C$3 -> 0.064377682 | AL15: =AE15+AF15 -> 0.79399142 | AM15: =AH15+AI15 -> 0 | AO15: =(('Input Sheet'!U15*2)+('Input Sheet'!V15*1)+('Input Sheet'!X15*-1)+('Input Sheet'!Y15*-2))/$C$3 -> 1.1502146
O16: ='Input Sheet'!J16 -> 17 | P16: ='Input Sheet'!K16 -> I receive regular feedback on the academic performance of my child. | Q16: ='Input Sheet'!L16/$C$3 -> 0.35193133 | R16: ='Input Sheet'!M16/$C$3 -> 0.48497854 | S16: ='Input Sheet'!N16/$C$3 -> 0.11158798 | T16: ='Input Sheet'!O16/$C$3 -> 0.042918455 | U16: ='Input Sheet'!P16/$C$3 -> 0 | V16: ='Input Sheet'!Q16/$C$3 -> 0.008583691 | X16: =Q16+R16 -> 0.83690987 | Y16: =T16+U16 -> 0.042918455 | AA16: =(('Input Sheet'!L16*2)+('Input Sheet'!M16*1)+('Input Sheet'!O16*-1)+('Input Sheet'!P16*-2))/$C$3 -> 1.1459227 | AC16: ='Input Sheet'!S16 -> 24 | AD16: ='Input Sheet'!T15 -> The school’s behaviour management policy is effective in promoting good behaviour. | AE16: ='Input Sheet'!U16/$C$3 -> 0.44206009 | AF16: ='Input Sheet'!V16/$C$3 -> 0.43776824 | AG16: ='Input Sheet'!W16/$C$3 -> 0.060085837 | AH16: ='Input Sheet'!X16/$C$3 -> 0 | AI16: ='Input Sheet'!Y16/$C$3 -> 0 | AJ16: ='Input Sheet'!Z16/$C$3 -> 0.060085837 | AL16: =AE16+AF16 -> 0.87982833 | AM16: =AH16+AI16 -> 0 | AO16: =(('Input Sheet'!U16*2)+('Input Sheet'!V16*1)+('Input Sheet'!X16*-1)+('Input Sheet'!Y16*-2))/$C$3 -> 1.3218884
O17: ='Input Sheet'!J17 -> 18 | P17: ='Input Sheet'!K17 -> I am satisfied with the academic performance of my child. | Q17: ='Input Sheet'!L17/$C$3 -> 0.51502146 | R17: ='Input Sheet'!M17/$C$3 -> 0.42918455 | S17: ='Input Sheet'!N17/$C$3 -> 0.042918455 | T17: ='Input Sheet'!O17/$C$3 -> 0.0042918455 | U17: ='Input Sheet'!P17/$C$3 -> 0 | V17: ='Input Sheet'!Q17/$C$3 -> 0.008583691 | X17: =Q17+R17 -> 0.94420601 | Y17: =T17+U17 -> 0.0042918455 | AA17: =(('Input Sheet'!L17*2)+('Input Sheet'!M17*1)+('Input Sheet'!O17*-1)+('Input Sheet'!P17*-2))/$C$3 -> 1.4549356 | AC17: ='Input Sheet'!S17 -> 25 | AD17: ='Input Sheet'!T16 -> The school handles disciplinary problems in a firm but caring manner. | AE17: ='Input Sheet'!U17/$C$3 -> 0.34334764 | AF17: ='Input Sheet'!V17/$C$3 -> 0.38197425 | AG17: ='Input Sheet'!W17/$C$3 -> 0.17167382 | AH17: ='Input Sheet'!X17/$C$3 -> 0.012875536 | AI17: ='Input Sheet'!Y17/$C$3 -> 0.0042918455 | AJ17: ='Input Sheet'!Z17/$C$3 -> 0.08583691 | AL17: =AE17+AF17 -> 0.72532189 | AM17: =AH17+AI17 -> 0.017167382 | AO17: =(('Input Sheet'!U17*2)+('Input Sheet'!V17*1)+('Input Sheet'!X17*-1)+('Input Sheet'!Y17*-2))/$C$3 -> 1.0472103
AC18: ='Input Sheet'!S18 -> 26 | AD18: ='Input Sheet'!T17 -> The school deals with cases of bullying immediately and effectively. | AE18: ='Input Sheet'!U18/$C$3 -> 0.69098712 | AF18: ='Input Sheet'!V18/$C$3 -> 0.2832618 | AG18: ='Input Sheet'!W18/$C$3 -> 0.012875536 | AH18: ='Input Sheet'!X18/$C$3 -> 0 | AI18: ='Input Sheet'!Y18/$C$3 -> 0 | AJ18: ='Input Sheet'!Z18/$C$3 -> 0.012875536 | AL18: =AE18+AF18 -> 0.97424893 | AM18: =AH18+AI18 -> 0 | AO18: =(('Input Sheet'!U18*2)+('Input Sheet'!V18*1)+('Input Sheet'!X18*-1)+('Input Sheet'!Y18*-2))/$C$3 -> 1.6652361
AC19: ='Input Sheet'!S19 -> 27 | AD19: ='Input Sheet'!T18 -> The school values parents’ contribution. | AE19: ='Input Sheet'!U19/$C$3 -> 0.45922747 | AF19: ='Input Sheet'!V19/$C$3 -> 0.39055794 | AG19: ='Input Sheet'!W19/$C$3 -> 0.072961373 | AH19: ='Input Sheet'!X19/$C$3 -> 0.008583691 | AI19: ='Input Sheet'!Y19/$C$3 -> 0 | AJ19: ='Input Sheet'!Z19/$C$3 -> 0.068669528 | AL19: =AE19+AF19 -> 0.84978541 | AM19: =AH19+AI19 -> 0.008583691 | AO19: =(('Input Sheet'!U19*2)+('Input Sheet'!V19*1)+('Input Sheet'!X19*-1)+('Input Sheet'!Y19*-2))/$C$3 -> 1.3004292
AC20: ='Input Sheet'!S20 -> 28 | AD20: ='Input Sheet'!T19 -> I am satisfied with the school’s efforts to tackle absenteeism. | AE20: ='Input Sheet'!U20/$C$3 -> 0.55364807 | AF20: ='Input Sheet'!V20/$C$3 -> 0.36480687 | AG20: ='Input Sheet'!W20/$C$3 -> 0.042918455 | AH20: ='Input Sheet'!X20/$C$3 -> 0.012875536 | AI20: ='Input Sheet'!Y20/$C$3 -> 0 | AJ20: ='Input Sheet'!Z20/$C$3 -> 0.025751073 | AL20: =AE20+AF20 -> 0.91845494 | AM20: =AH20+AI20 -> 0.012875536 | AO20: =(('Input Sheet'!U20*2)+('Input Sheet'!V20*1)+('Input Sheet'!X20*-1)+('Input Sheet'!Y20*-2))/$C$3 -> 1.4592275
AC21: ='Input Sheet'!S21 -> 29 | AD21: ='Input Sheet'!T20 -> My child participates actively in school organised activities. | AE21: ='Input Sheet'!U21/$C$3 -> 0.55364807 | AF21: ='Input Sheet'!V21/$C$3 -> 0.38626609 | AG21: ='Input Sheet'!W21/$C$3 -> 0.030042918 | AH21: ='Input Sheet'!X21/$C$3 -> 0.008583691 | AI21: ='Input Sheet'!Y21/$C$3 -> 0 | AJ21: ='Input Sheet'!Z21/$C$3 -> 0.021459227 | AL21: =AE21+AF21 -> 0.93991416 | AM21: =AH21+AI21 -> 0.008583691 | AO21: =(('Input Sheet'!U21*2)+('Input Sheet'!V21*1)+('Input Sheet'!X21*-1)+('Input Sheet'!Y21*-2))/$C$3 -> 1.4849785
AC22: ='Input Sheet'!S22 -> 30 | AD22: ='Input Sheet'!T21 -> The school encourages respect among parents. | AE22: ='Input Sheet'!U22/$C$3 -> 0.7167382 | AF22: ='Input Sheet'!V22/$C$3 -> 0.26609442 | AG22: ='Input Sheet'!W22/$C$3 -> 0.0042918455 | AH22: ='Input Sheet'!X22/$C$3 -> 0 | AI22: ='Input Sheet'!Y22/$C$3 -> 0 | AJ22: ='Input Sheet'!Z22/$C$3 -> 0.012875536 | AL22: =AE22+AF22 -> 0.98283262 | AM22: =AH22+AI22 -> 0 | AO22: =(('Input Sheet'!U22*2)+('Input Sheet'!V22*1)+('Input Sheet'!X22*-1)+('Input Sheet'!Y22*-2))/$C$3 -> 1.6995708
AC23: ='Input Sheet'!S23 -> 31 | AD23: ='Input Sheet'!T22 -> I regularly follow my child’s educational progress. | AE23: ='Input Sheet'!U23/$C$3 -> 0.45064378 | AF23: ='Input Sheet'!V23/$C$3 -> 0.43347639 | AG23: ='Input Sheet'!W23/$C$3 -> 0.094420601 | AH23: ='Input Sheet'!X23/$C$3 -> 0.008583691 | AI23: ='Input Sheet'!Y23/$C$3 -> 0 | AJ23: ='Input Sheet'!Z23/$C$3 -> 0.012875536 | AL23: =AE23+AF23 -> 0.88412017 | AM23: =AH23+AI23 -> 0.008583691 | AO23: =(('Input Sheet'!U23*2)+('Input Sheet'!V23*1)+('Input Sheet'!X23*-1)+('Input Sheet'!Y23*-2))/$C$3 -> 1.3261803
AC24: ='Input Sheet'!S24 -> 32 | AD24: ='Input Sheet'!T23 -> Parents readily cooperate with the school. | AE24: ='Input Sheet'!U24/$C$3 -> 0.73819742 | AF24: ='Input Sheet'!V24/$C$3 -> 0.22317597 | AG24: ='Input Sheet'!W24/$C$3 -> 0.012875536 | AH24: ='Input Sheet'!X24/$C$3 -> 0.0042918455 | AI24: ='Input Sheet'!Y24/$C$3 -> 0 | AJ24: ='Input Sheet'!Z24/$C$3 -> 0.021459227 | AL24: =AE24+AF24 -> 0.96137339 | AM24: =AH24+AI24 -> 0.0042918455 | AO24: =(('Input Sheet'!U24*2)+('Input Sheet'!V24*1)+('Input Sheet'!X24*-1)+('Input Sheet'!Y24*-2))/$C$3 -> 1.695279
AC25: ='Input Sheet'!S25 -> 33 | AD25: ='Input Sheet'!T24 -> I regularly attend parents’ day. | AE25: ='Input Sheet'!U25/$C$3 -> 0.51072961 | AF25: ='Input Sheet'!V25/$C$3 -> 0.38626609 | AG25: ='Input Sheet'!W25/$C$3 -> 0.0472103 | AH25: ='Input Sheet'!X25/$C$3 -> 0.012875536 | AI25: ='Input Sheet'!Y25/$C$3 -> 0 | AJ25: ='Input Sheet'!Z25/$C$3 -> 0.042918455 | AL25: =AE25+AF25 -> 0.89699571 | AM25: =AH25+AI25 -> 0.012875536 | AO25: =(('Input Sheet'!U25*2)+('Input Sheet'!V25*1)+('Input Sheet'!X25*-1)+('Input Sheet'!Y25*-2))/$C$3 -> 1.3948498
AC26: ='Input Sheet'!S26 -> 34 | AD26: ='Input Sheet'!T25 -> I am invited to take part in school initiatives. | AE26: ='Input Sheet'!U26/$C$3 -> 0.36480687 | AF26: ='Input Sheet'!V26/$C$3 -> 0.42060086 | AG26: ='Input Sheet'!W26/$C$3 -> 0.072961373 | AH26: ='Input Sheet'!X26/$C$3 -> 0.038626609 | AI26: ='Input Sheet'!Y26/$C$3 -> 0.0042918455 | AJ26: ='Input Sheet'!Z26/$C$3 -> 0.098712446 | AL26: =AE26+AF26 -> 0.78540773 | AM26: =AH26+AI26 -> 0.042918455 | AO26: =(('Input Sheet'!U26*2)+('Input Sheet'!V26*1)+('Input Sheet'!X26*-1)+('Input Sheet'!Y26*-2))/$C$3 -> 1.1030043
AC27: ='Input Sheet'!S27 -> 35 | AD27: ='Input Sheet'!T26 -> I regularly take part in school initiatives. | AE27: ='Input Sheet'!U27/$C$3 -> 0.29184549 | AF27: ='Input Sheet'!V27/$C$3 -> 0.43347639 | AG27: ='Input Sheet'!W27/$C$3 -> 0.13304721 | AH27: ='Input Sheet'!X27/$C$3 -> 0.021459227 | AI27: ='Input Sheet'!Y27/$C$3 -> 0.0042918455 | AJ27: ='Input Sheet'!Z27/$C$3 -> 0.11587983 | AL27: =AE27+AF27 -> 0.72532189 | AM27: =AH27+AI27 -> 0.025751073 | AO27: =(('Input Sheet'!U27*2)+('Input Sheet'!V27*1)+('Input Sheet'!X27*-1)+('Input Sheet'!Y27*-2))/$C$3 -> 0.98712446
AC28: ='Input Sheet'!S28 -> 36 | AD28: ='Input Sheet'!T27 -> The school attends to problems I raise in a timely manner. | AE28: ='Input Sheet'!U28/$C$3 -> 0.79828326 | AF28: ='Input Sheet'!V28/$C$3 -> 0.16738197 | AG28: ='Input Sheet'!W28/$C$3 -> 0.008583691 | AH28: ='Input Sheet'!X28/$C$3 -> 0.0042918455 | AI28: ='Input Sheet'!Y28/$C$3 -> 0 | AJ28: ='Input Sheet'!Z28/$C$3 -> 0.021459227 | AL28: =AE28+AF28 -> 0.96566524 | AM28: =AH28+AI28 -> 0.0042918455 | AO28: =(('Input Sheet'!U28*2)+('Input Sheet'!V28*1)+('Input Sheet'!X28*-1)+('Input Sheet'!Y28*-2))/$C$3 -> 1.7596567

Sheet Graphs SW
A1: ='Input Sheet'!A8 -> 1 | B1: ='Input Sheet'!B8 -> The Head of school has a clear vision for the school. | O1: ='Input Sheet'!A11 -> 4 | P1: ='Input Sheet'!B11 -> The Head and Assistant Heads organises regular meetings that are relevant for me as a person. | AC1: ='Input Sheet'!A14 -> 7 | AD1: ='Input Sheet'!B14 -> The Head and Assistant Heads communicates effectively with me.
A12: ='Input Sheet'!A9 -> 2 | B12: ='Input Sheet'!B9 -> The Head and Assistant Heads are doing their best to bring about changes in the school. | O12: ='Input Sheet'!A12 -> 5 | P12: ='Input Sheet'!B12 -> The school regularly asks for my views about the school. | AC12: ='Input Sheet'!A15 -> 8 | AD12: ='Input Sheet'!B15 -> Existing school policies are effective.
A23: ='Input Sheet'!A10 -> 3 | B23: ='Input Sheet'!B10 -> The Head and Assistant Heads are available to listen to my concerns. | O23: ='Input Sheet'!A13 -> 6 | P23: ='Input Sheet'!B13 -> I have sufficient opportunities to communicate with the Head and Assistant Heads.
A34: ='Input Sheet'!J8 -> 9 | B34: ='Input Sheet'!K8 -> The school supports learners in developing their full potential. | O34: ='Input Sheet'!J11 -> 12 | P34: ='Input Sheet'!K11 -> Learning support assistant and teachers work in synergy for the benefit of all learners. | AC34: ='Input Sheet'!J14 -> 15 | AD34: ='Input Sheet'!K14 -> Homework is regularly corrected by the class teacher. | AQ34: ='Input Sheet'!J17 -> 18 | AR34: ='Input Sheet'!K17 -> I am satisfied with the academic performance of my child.
A45: ='Input Sheet'!J9 -> 10 | B45: ='Input Sheet'!K9 -> The school helps learners develop as democratic citizens. | O45: ='Input Sheet'!J12 -> 13 | P45: ='Input Sheet'!K12 -> Teachers provide reasonable amount of Homework. | AC45: ='Input Sheet'!J15 -> 16 | AD45: ='Input Sheet'!K15 -> My child is given feedback on his/her work to enable him/her to improve.
A56: ='Input Sheet'!J10 -> 11 | B56: ='Data Sheet'!P10 -> The school enhances learning through co-curricular activities. | O56: ='Input Sheet'!J13 -> 14 | P56: ='Input Sheet'!K13 -> Homework is suited for the child’s ability. | AC56: ='Input Sheet'!J16 -> 17 | AD56: ='Input Sheet'!K16 -> I receive regular feedback on the academic performance of my child.
A67: ='Input Sheet'!S8 -> 19 | B67: ='Input Sheet'!T8 -> The school promotes confidence and self-esteem of learners. | O67: ='Input Sheet'!S12 -> 20 c | P67: ='Input Sheet'!T9 -> The school addresses the needs of: | U67: ='Input Sheet'!T12 -> Learners from diverse cultural and linguistic backgrounds | AC67: ='Input Sheet'!S15 -> 23 | AD67: ='Input Sheet'!T15 -> The school’s behaviour management policy is effective in promoting good behaviour. | AQ67: ='Input Sheet'!S18 -> 26 | AR67: ='Input Sheet'!T18 -> The school values parents’ contribution. | BE67: ='Input Sheet'!S21 -> 29 | BF67: ='Input Sheet'!T21 -> The school encourages respect among parents. | BS67: ='Input Sheet'!S24 -> 32 | BT67: ='Input Sheet'!T24 -> I regularly attend parents’ day. | CG67: ='Input Sheet'!S27 -> 35 | CH67: ='Input Sheet'!T27 -> The school attends to problems I raise in a timely manner.
A78: ='Input Sheet'!S10 -> 20 a | B78: ='Input Sheet'!T9 -> The school addresses the needs of: | H78: ='Input Sheet'!T10 -> Gifted and talented learners. | O78: ='Input Sheet'!S13 -> 21 | P78: ='Input Sheet'!T13 -> The school provides learners with effective personal and career guidance. | AC78: ='Input Sheet'!S16 -> 24 | AD78: ='Input Sheet'!T16 -> The school handles disciplinary problems in a firm but caring manner. | AQ78: ='Input Sheet'!S19 -> 27 | AR78: ='Input Sheet'!T19 -> I am satisfied with the school’s efforts to tackle absenteeism. | BE78: ='Input Sheet'!S22 -> 30 | BF78: ='Input Sheet'!T22 -> I regularly follow my child’s educational progress. | BS78: ='Input Sheet'!S25 -> 33 | BT78: ='Input Sheet'!T25 -> I am invited to take part in school initiatives. | CG78: ='Input Sheet'!S28 -> 36 | CH78: ='Input Sheet'!T28 -> I would recommend the school to other parents.
A89: ='Input Sheet'!S11 -> 20 b | B89: ='Input Sheet'!T9 -> The school addresses the needs of: | H89: ='Input Sheet'!T11 -> Learners with special educational needs. | O89: ='Input Sheet'!S14 -> 22 | P89: ='Input Sheet'!T14 -> Individual educational programmes (IEPs) for learners with a statement of needs are updated regularly. | AC89: ='Input Sheet'!S17 -> 25 | AD89: ='Input Sheet'!T17 -> The school deals with cases of bullying immediately and effectively. | AQ89: ='Input Sheet'!S20 -> 28 | AR89: ='Input Sheet'!T20 -> My child participates actively in school organised activities. | BE89: ='Input Sheet'!S23 -> 31 | BF89: ='Input Sheet'!T23 -> Parents readily cooperate with the school. | BS89: ='Input Sheet'!S26 -> 34 | BT89: ='Input Sheet'!T26 -> I regularly take part in school initiatives.

Sheet Graphs W Av
